Package: diffHic Version: 1.40.0 Command: /Library/Frameworks/R.framework/Resources/bin/R CMD INSTALL diffHic StartedAt: 2025-09-29 15:58:29 -0400 (Mon, 29 Sep 2025) EndedAt: 2025-09-29 16:01:39 -0400 (Mon, 29 Sep 2025) EllapsedTime: 189.9 seconds RetCode: 0 Status: OK