Package: diffHic Version: 1.39.1 Command: /Library/Frameworks/R.framework/Resources/bin/R CMD INSTALL diffHic StartedAt: 2025-02-19 15:10:39 -0500 (Wed, 19 Feb 2025) EndedAt: 2025-02-19 15:11:10 -0500 (Wed, 19 Feb 2025) EllapsedTime: 31.4 seconds RetCode: 0 Status: OK