Package: diffHic Version: 1.39.1 Command: rm -rf diffHic.buildbin-libdir && mkdir diffHic.buildbin-libdir && /Users/biocbuild/BBS/utils/build-universal.sh diffHic_1.39.1.tar.gz /Library/Frameworks/R.framework/Resources/bin/R diffHic.buildbin-libdir StartedAt: 2025-02-19 22:20:01 -0500 (Wed, 19 Feb 2025) EndedAt: 2025-02-19 22:20:36 -0500 (Wed, 19 Feb 2025) EllapsedTime: 34.7 seconds RetCode: 0 Status: OK PackageFile: diffHic_1.39.1.tgz PackageFileSize: 2.523 MiB