Package: diffGeneAnalysis Version: 1.89.0 Command: /Library/Frameworks/R.framework/Resources/bin/R CMD build --keep-empty-dirs --no-resave-data diffGeneAnalysis StartedAt: 2025-02-19 16:30:53 -0500 (Wed, 19 Feb 2025) EndedAt: 2025-02-19 16:31:02 -0500 (Wed, 19 Feb 2025) EllapsedTime: 9.0 seconds RetCode: 0 Status: OK PackageFile: diffGeneAnalysis_1.89.0.tar.gz PackageFileSize: 213.1 KiB