Package: diffGeneAnalysis Version: 1.89.0 Command: /Library/Frameworks/R.framework/Resources/bin/R CMD INSTALL diffGeneAnalysis StartedAt: 2025-02-20 15:02:17 -0500 (Thu, 20 Feb 2025) EndedAt: 2025-02-20 15:02:20 -0500 (Thu, 20 Feb 2025) EllapsedTime: 3.6 seconds RetCode: 0 Status: OK