Package: diffGeneAnalysis Version: 1.89.0 Command: /Library/Frameworks/R.framework/Resources/bin/R CMD check --install=check:diffGeneAnalysis.install-out.txt --library=/Library/Frameworks/R.framework/Resources/library --no-vignettes --timings diffGeneAnalysis_1.89.0.tar.gz StartedAt: 2025-02-20 19:00:16 -0500 (Thu, 20 Feb 2025) EndedAt: 2025-02-20 19:00:28 -0500 (Thu, 20 Feb 2025) EllapsedTime: 11.2 seconds RetCode: 0 Status: OK CheckDir: diffGeneAnalysis.Rcheck Warnings: 0