Package: diffGeneAnalysis Version: 1.89.0 Command: /Library/Frameworks/R.framework/Resources/bin/R CMD build --keep-empty-dirs --no-resave-data diffGeneAnalysis StartedAt: 2025-02-20 16:09:34 -0500 (Thu, 20 Feb 2025) EndedAt: 2025-02-20 16:09:38 -0500 (Thu, 20 Feb 2025) EllapsedTime: 4.0 seconds RetCode: 0 Status: OK PackageFile: diffGeneAnalysis_1.89.0.tar.gz PackageFileSize: 213.2 KiB