Package: destiny Version: 3.21.0 Command: /Library/Frameworks/R.framework/Resources/bin/R CMD check --install=check:destiny.install-out.txt --library=/Library/Frameworks/R.framework/Resources/library --no-vignettes --timings destiny_3.21.0.tar.gz StartedAt: 2025-02-19 19:00:55 -0500 (Wed, 19 Feb 2025) EndedAt: 2025-02-19 19:02:32 -0500 (Wed, 19 Feb 2025) EllapsedTime: 97.2 seconds RetCode: 0 Status: OK CheckDir: destiny.Rcheck Warnings: 0