Package: derfinderPlot Version: 1.41.0 Command: /Library/Frameworks/R.framework/Resources/bin/R CMD build --keep-empty-dirs --no-resave-data derfinderPlot StartedAt: 2025-02-20 16:28:37 -0500 (Thu, 20 Feb 2025) EndedAt: 2025-02-20 16:31:50 -0500 (Thu, 20 Feb 2025) EllapsedTime: 193.1 seconds RetCode: 0 Status: OK PackageFile: derfinderPlot_1.41.0.tar.gz PackageFileSize: 2.432 MiB