Package: derfinderHelper Version: 1.41.0 Command: chmod a+r derfinderHelper -R && E:\biocbuild\bbs-3.21-bioc\R\bin\R.exe CMD build --keep-empty-dirs --no-resave-data derfinderHelper StartedAt: 2025-02-20 18:21:58 -0500 (Thu, 20 Feb 2025) EndedAt: 2025-02-20 18:22:25 -0500 (Thu, 20 Feb 2025) EllapsedTime: 27.6 seconds RetCode: 0 Status: OK PackageFile: derfinderHelper_1.41.0.tar.gz PackageFileSize: 310.2 KiB