Package: derfinderHelper Version: 1.41.0 Command: /home/biocbuild/bbs-3.21-bioc/R/bin/R CMD INSTALL derfinderHelper StartedAt: 2025-02-20 15:23:26 -0500 (Thu, 20 Feb 2025) EndedAt: 2025-02-20 15:23:36 -0500 (Thu, 20 Feb 2025) EllapsedTime: 9.5 seconds RetCode: 0 Status: OK