Package: derfinderHelper Version: 1.41.0 Command: /home/biocbuild/bbs-3.21-bioc/R/bin/R CMD check --install=check:derfinderHelper.install-out.txt --library=/home/biocbuild/bbs-3.21-bioc/R/site-library --timings derfinderHelper_1.41.0.tar.gz StartedAt: 2025-02-20 21:29:34 -0500 (Thu, 20 Feb 2025) EndedAt: 2025-02-20 21:30:52 -0500 (Thu, 20 Feb 2025) EllapsedTime: 78.1 seconds RetCode: 0 Status: OK CheckDir: derfinderHelper.Rcheck Warnings: 0