Package: derfinder Version: 1.41.0 Command: E:\biocbuild\bbs-3.21-bioc\R\bin\R.exe CMD check --no-multiarch --install=check:derfinder.install-out.txt --library=E:\biocbuild\bbs-3.21-bioc\R\library --no-vignettes --timings derfinder_1.41.0.tar.gz StartedAt: 2025-02-19 00:22:28 -0500 (Wed, 19 Feb 2025) EndedAt: 2025-02-19 00:33:53 -0500 (Wed, 19 Feb 2025) EllapsedTime: 684.7 seconds RetCode: 0 Status: OK CheckDir: derfinder.Rcheck Warnings: 0