Package: derfinder Version: 1.41.0 Command: /home/biocbuild/bbs-3.21-bioc/R/bin/R CMD build --keep-empty-dirs --no-resave-data derfinder StartedAt: 2025-02-18 16:54:44 -0500 (Tue, 18 Feb 2025) EndedAt: 2025-02-18 16:59:22 -0500 (Tue, 18 Feb 2025) EllapsedTime: 278.3 seconds RetCode: 0 Status: OK PackageFile: derfinder_1.41.0.tar.gz PackageFileSize: 1.995 MiB