Package: densvis Version: 1.17.0 Command: E:\biocbuild\bbs-3.21-bioc\R\bin\R.exe CMD check --no-multiarch --install=check:densvis.install-out.txt --library=E:\biocbuild\bbs-3.21-bioc\R\library --no-vignettes --timings densvis_1.17.0.tar.gz StartedAt: 2025-02-18 00:14:17 -0500 (Tue, 18 Feb 2025) EndedAt: 2025-02-18 00:17:48 -0500 (Tue, 18 Feb 2025) EllapsedTime: 210.9 seconds RetCode: 1 Status: ERROR CheckDir: densvis.Rcheck Warnings: NA