Package: densvis Version: 1.17.0 Command: chmod a+r densvis -R && E:\biocbuild\bbs-3.21-bioc\R\bin\R.exe --arch x64 CMD build --keep-empty-dirs --no-resave-data densvis StartedAt: 2025-02-17 18:12:15 -0500 (Mon, 17 Feb 2025) EndedAt: 2025-02-17 18:15:49 -0500 (Mon, 17 Feb 2025) EllapsedTime: 214.2 seconds RetCode: 0 Status: OK PackageFile: densvis_1.17.0.tar.gz PackageFileSize: 566.9 KiB