Package: densvis Version: 1.17.0 Command: /home/biocbuild/bbs-3.21-bioc/R/bin/R CMD build --keep-empty-dirs --no-resave-data densvis StartedAt: 2025-02-17 16:55:35 -0500 (Mon, 17 Feb 2025) EndedAt: 2025-02-17 16:56:59 -0500 (Mon, 17 Feb 2025) EllapsedTime: 84.1 seconds RetCode: 0 Status: OK PackageFile: densvis_1.17.0.tar.gz PackageFileSize: 1.667 MiB