Package: densvis Version: 1.17.0 Command: /Library/Frameworks/R.framework/Resources/bin/R CMD INSTALL densvis StartedAt: 2025-02-17 15:07:43 -0500 (Mon, 17 Feb 2025) EndedAt: 2025-02-17 15:08:09 -0500 (Mon, 17 Feb 2025) EllapsedTime: 26.0 seconds RetCode: 0 Status: OK