Package: densvis Version: 1.17.0 Command: /Library/Frameworks/R.framework/Resources/bin/R CMD build --keep-empty-dirs --no-resave-data densvis StartedAt: 2025-02-17 16:27:06 -0500 (Mon, 17 Feb 2025) EndedAt: 2025-02-17 16:28:43 -0500 (Mon, 17 Feb 2025) EllapsedTime: 96.7 seconds RetCode: 0 Status: OK PackageFile: densvis_1.17.0.tar.gz PackageFileSize: 1.785 MiB