Package: densvis Version: 1.17.0 Command: rm -rf densvis.buildbin-libdir && mkdir densvis.buildbin-libdir && /Users/biocbuild/BBS/utils/build-universal.sh densvis_1.17.0.tar.gz /Library/Frameworks/R.framework/Resources/bin/R densvis.buildbin-libdir StartedAt: 2025-02-18 00:21:42 -0500 (Tue, 18 Feb 2025) EndedAt: 2025-02-18 00:22:11 -0500 (Tue, 18 Feb 2025) EllapsedTime: 28.6 seconds RetCode: 0 Status: OK PackageFile: densvis_1.17.0.tgz PackageFileSize: 1.848 MiB