Package: densvis Version: 1.17.0 Command: /Library/Frameworks/R.framework/Resources/bin/R CMD check --install=check:densvis.install-out.txt --library=/Library/Frameworks/R.framework/Resources/library --no-vignettes --timings densvis_1.17.0.tar.gz StartedAt: 2025-02-17 18:57:25 -0500 (Mon, 17 Feb 2025) EndedAt: 2025-02-17 18:58:11 -0500 (Mon, 17 Feb 2025) EllapsedTime: 46.5 seconds RetCode: 0 Status: OK CheckDir: densvis.Rcheck Warnings: 0