Package: demuxmix Version: 1.9.0 Command: rm -rf demuxmix.buildbin-libdir && mkdir demuxmix.buildbin-libdir && E:\biocbuild\bbs-3.21-bioc\R\bin\R.exe CMD INSTALL --build --library=demuxmix.buildbin-libdir demuxmix_1.9.0.tar.gz StartedAt: 2025-02-21 07:57:27 -0500 (Fri, 21 Feb 2025) EndedAt: 2025-02-21 07:57:51 -0500 (Fri, 21 Feb 2025) EllapsedTime: 24.0 seconds RetCode: 0 Status: OK PackageFile: demuxmix_1.9.0.zip PackageFileSize: 1.005 MiB