Package: demuxmix Version: 1.9.0 Command: /home/biocbuild/bbs-3.21-bioc/R/bin/R CMD INSTALL demuxmix StartedAt: 2025-02-20 15:13:40 -0500 (Thu, 20 Feb 2025) EndedAt: 2025-02-20 15:13:51 -0500 (Thu, 20 Feb 2025) EllapsedTime: 10.3 seconds RetCode: 0 Status: OK