Package: demuxmix Version: 1.9.0 Command: /Library/Frameworks/R.framework/Resources/bin/R CMD INSTALL demuxmix StartedAt: 2025-02-20 15:08:10 -0500 (Thu, 20 Feb 2025) EndedAt: 2025-02-20 15:08:33 -0500 (Thu, 20 Feb 2025) EllapsedTime: 23.2 seconds RetCode: 0 Status: OK