Package: demuxmix Version: 1.9.0 Command: /Library/Frameworks/R.framework/Resources/bin/R CMD build --keep-empty-dirs --no-resave-data demuxmix StartedAt: 2025-02-20 16:27:46 -0500 (Thu, 20 Feb 2025) EndedAt: 2025-02-20 16:28:29 -0500 (Thu, 20 Feb 2025) EllapsedTime: 43.4 seconds RetCode: 0 Status: OK PackageFile: demuxmix_1.9.0.tar.gz PackageFileSize: 1.42 MiB