Package: demuxmix Version: 1.9.0 Command: /home/biocbuild/R/R/bin/R CMD build --keep-empty-dirs --no-resave-data demuxmix StartedAt: 2025-01-28 22:22:57 -0000 (Tue, 28 Jan 2025) EndedAt: 2025-01-28 22:23:53 -0000 (Tue, 28 Jan 2025) EllapsedTime: 56.0 seconds RetCode: 0 Status: OK PackageFile: demuxmix_1.9.0.tar.gz PackageFileSize: 855 KiB