Package: demuxmix Version: 1.9.0 Command: /Library/Frameworks/R.framework/Resources/bin/R CMD INSTALL demuxmix StartedAt: 2025-02-20 15:05:50 -0500 (Thu, 20 Feb 2025) EndedAt: 2025-02-20 15:05:55 -0500 (Thu, 20 Feb 2025) EllapsedTime: 4.5 seconds RetCode: 0 Status: OK