Package: demuxmix Version: 1.9.0 Command: /Library/Frameworks/R.framework/Resources/bin/R CMD check --install=check:demuxmix.install-out.txt --library=/Library/Frameworks/R.framework/Resources/library --no-vignettes --timings demuxmix_1.9.0.tar.gz StartedAt: 2025-02-20 18:57:12 -0500 (Thu, 20 Feb 2025) EndedAt: 2025-02-20 18:57:37 -0500 (Thu, 20 Feb 2025) EllapsedTime: 24.3 seconds RetCode: 0 Status: OK CheckDir: demuxmix.Rcheck Warnings: 0