Package: demuxmix Version: 1.9.0 Maintainer: Hans-Ulrich Klein MaintainerEmail: hansulrich.klein at gmail.com git_url: https://git.bioconductor.org/packages/demuxmix git_branch: devel git_last_commit: 6169ab1 git_last_commit_date: 2024-10-29 11:14:02 -0500 (Tue, 29 Oct 2024)