Package: demuxSNP Version: 1.5.0 Command: rm -rf demuxSNP.buildbin-libdir && mkdir demuxSNP.buildbin-libdir && E:\biocbuild\bbs-3.21-bioc\R\bin\R.exe CMD INSTALL --build --library=demuxSNP.buildbin-libdir demuxSNP_1.5.0.tar.gz StartedAt: 2025-02-21 07:57:29 -0500 (Fri, 21 Feb 2025) EndedAt: 2025-02-21 07:58:16 -0500 (Fri, 21 Feb 2025) EllapsedTime: 47.6 seconds RetCode: 0 Status: OK PackageFile: demuxSNP_1.5.0.zip PackageFileSize: 1.588 MiB