Package: deltaCaptureC Version: 1.21.0 Command: E:\biocbuild\bbs-3.21-bioc\R\bin\R.exe CMD INSTALL deltaCaptureC StartedAt: 2025-02-20 16:08:01 -0500 (Thu, 20 Feb 2025) EndedAt: 2025-02-20 16:09:21 -0500 (Thu, 20 Feb 2025) EllapsedTime: 80.6 seconds RetCode: 0 Status: OK