Package: deltaCaptureC Version: 1.21.0 Command: /home/biocbuild/bbs-3.21-bioc/R/bin/R CMD INSTALL deltaCaptureC StartedAt: 2025-02-20 15:41:14 -0500 (Thu, 20 Feb 2025) EndedAt: 2025-02-20 15:41:45 -0500 (Thu, 20 Feb 2025) EllapsedTime: 30.5 seconds RetCode: 0 Status: OK