Package: deltaCaptureC Version: 1.21.0 Command: /home/biocbuild/bbs-3.21-bioc/R/bin/R CMD check --install=check:deltaCaptureC.install-out.txt --library=/home/biocbuild/bbs-3.21-bioc/R/site-library --timings deltaCaptureC_1.21.0.tar.gz StartedAt: 2025-02-20 21:26:55 -0500 (Thu, 20 Feb 2025) EndedAt: 2025-02-20 21:32:48 -0500 (Thu, 20 Feb 2025) EllapsedTime: 353.5 seconds RetCode: 0 Status: OK CheckDir: deltaCaptureC.Rcheck Warnings: 0