Package: deltaCaptureC Version: 1.21.0 Command: /Library/Frameworks/R.framework/Resources/bin/R CMD INSTALL deltaCaptureC StartedAt: 2025-02-20 15:08:28 -0500 (Thu, 20 Feb 2025) EndedAt: 2025-02-20 15:08:41 -0500 (Thu, 20 Feb 2025) EllapsedTime: 13.5 seconds RetCode: 0 Status: OK