Package: deltaCaptureC Version: 1.21.0 Command: /Library/Frameworks/R.framework/Resources/bin/R CMD check --install=check:deltaCaptureC.install-out.txt --library=/Library/Frameworks/R.framework/Resources/library --no-vignettes --timings deltaCaptureC_1.21.0.tar.gz StartedAt: 2025-02-19 18:58:36 -0500 (Wed, 19 Feb 2025) EndedAt: 2025-02-19 19:00:09 -0500 (Wed, 19 Feb 2025) EllapsedTime: 93.1 seconds RetCode: 0 Status: OK CheckDir: deltaCaptureC.Rcheck Warnings: 0