Package: deepSNV Version: 1.53.0 Command: chmod a+r deepSNV -R && E:\biocbuild\bbs-3.21-bioc\R\bin\R.exe CMD build --keep-empty-dirs --no-resave-data deepSNV StartedAt: 2025-02-20 18:16:53 -0500 (Thu, 20 Feb 2025) EndedAt: 2025-02-20 18:19:16 -0500 (Thu, 20 Feb 2025) EllapsedTime: 143.1 seconds RetCode: 0 Status: OK PackageFile: deepSNV_1.53.0.tar.gz PackageFileSize: 2.322 MiB