Package: deepSNV Version: 1.53.0 Command: /Library/Frameworks/R.framework/Resources/bin/R CMD check --install=check:deepSNV.install-out.txt --library=/Library/Frameworks/R.framework/Resources/library --no-vignettes --timings deepSNV_1.53.0.tar.gz StartedAt: 2025-02-19 19:54:47 -0500 (Wed, 19 Feb 2025) EndedAt: 2025-02-19 20:00:32 -0500 (Wed, 19 Feb 2025) EllapsedTime: 344.6 seconds RetCode: 0 Status: OK CheckDir: deepSNV.Rcheck Warnings: 0