Package: deepSNV Version: 1.53.0 Command: /Library/Frameworks/R.framework/Resources/bin/R CMD INSTALL deepSNV StartedAt: 2025-02-20 15:11:02 -0500 (Thu, 20 Feb 2025) EndedAt: 2025-02-20 15:11:21 -0500 (Thu, 20 Feb 2025) EllapsedTime: 19.0 seconds RetCode: 0 Status: OK