Package: deepSNV Version: 1.53.0 Command: rm -rf deepSNV.buildbin-libdir && mkdir deepSNV.buildbin-libdir && /Users/biocbuild/BBS/utils/build-universal.sh deepSNV_1.53.0.tar.gz /Library/Frameworks/R.framework/Resources/bin/R deepSNV.buildbin-libdir StartedAt: 2025-02-19 22:19:20 -0500 (Wed, 19 Feb 2025) EndedAt: 2025-02-19 22:19:41 -0500 (Wed, 19 Feb 2025) EllapsedTime: 21.4 seconds RetCode: 0 Status: OK PackageFile: deepSNV_1.53.0.tgz PackageFileSize: 3.383 MiB