Package: deconvR Version: 1.13.0 Command: E:\biocbuild\bbs-3.21-bioc\R\bin\R.exe CMD INSTALL deconvR StartedAt: 2025-02-20 16:53:50 -0500 (Thu, 20 Feb 2025) EndedAt: 2025-02-20 16:54:48 -0500 (Thu, 20 Feb 2025) EllapsedTime: 58.0 seconds RetCode: 0 Status: OK