Package: deconvR Version: 1.13.0 Command: /Library/Frameworks/R.framework/Resources/bin/R CMD check --install=check:deconvR.install-out.txt --library=/Library/Frameworks/R.framework/Resources/library --no-vignettes --timings deconvR_1.13.0.tar.gz StartedAt: 2025-02-20 18:53:45 -0500 (Thu, 20 Feb 2025) EndedAt: 2025-02-20 18:59:52 -0500 (Thu, 20 Feb 2025) EllapsedTime: 367.3 seconds RetCode: 0 Status: OK CheckDir: deconvR.Rcheck Warnings: 0