Package: decontam Version: 1.27.0 Command: E:\biocbuild\bbs-3.21-bioc\R\bin\R.exe CMD check --no-multiarch --install=check:decontam.install-out.txt --library=E:\biocbuild\bbs-3.21-bioc\R\library --no-vignettes --timings decontam_1.27.0.tar.gz StartedAt: 2025-02-19 00:12:07 -0500 (Wed, 19 Feb 2025) EndedAt: 2025-02-19 00:13:11 -0500 (Wed, 19 Feb 2025) EllapsedTime: 64.3 seconds RetCode: 0 Status: OK CheckDir: decontam.Rcheck Warnings: 0