Package: decontam Version: 1.27.0 Command: chmod a+r decontam -R && E:\biocbuild\bbs-3.21-bioc\R\bin\R.exe CMD build --keep-empty-dirs --no-resave-data decontam StartedAt: 2025-02-18 18:12:21 -0500 (Tue, 18 Feb 2025) EndedAt: 2025-02-18 18:13:10 -0500 (Tue, 18 Feb 2025) EllapsedTime: 49.1 seconds RetCode: 0 Status: OK PackageFile: decontam_1.27.0.tar.gz PackageFileSize: 465.1 KiB