Package: decontX Version: 1.5.1 Command: E:\biocbuild\bbs-3.21-bioc\R\bin\R.exe CMD check --no-multiarch --install=check:decontX.install-out.txt --library=E:\biocbuild\bbs-3.21-bioc\R\library --no-vignettes --timings decontX_1.5.1.tar.gz StartedAt: 2025-02-21 00:27:55 -0500 (Fri, 21 Feb 2025) EndedAt: 2025-02-21 00:36:14 -0500 (Fri, 21 Feb 2025) EllapsedTime: 499.1 seconds RetCode: 0 Status: OK CheckDir: decontX.Rcheck Warnings: 0