Package: decontX Version: 1.5.1 Command: chmod a+r decontX -R && E:\biocbuild\bbs-3.21-bioc\R\bin\R.exe CMD build --keep-empty-dirs --no-resave-data decontX StartedAt: 2025-02-20 18:15:54 -0500 (Thu, 20 Feb 2025) EndedAt: 2025-02-20 18:27:01 -0500 (Thu, 20 Feb 2025) EllapsedTime: 666.7 seconds RetCode: 0 Status: OK PackageFile: decontX_1.5.1.tar.gz PackageFileSize: 970 KiB