Package: decontX Version: 1.5.1 Command: rm -rf decontX.buildbin-libdir && mkdir decontX.buildbin-libdir && E:\biocbuild\bbs-3.21-bioc\R\bin\R.exe CMD INSTALL --build --library=decontX.buildbin-libdir decontX_1.5.1.tar.gz StartedAt: 2025-02-21 07:56:05 -0500 (Fri, 21 Feb 2025) EndedAt: 2025-02-21 07:58:58 -0500 (Fri, 21 Feb 2025) EllapsedTime: 172.9 seconds RetCode: 0 Status: OK PackageFile: decontX_1.5.1.zip PackageFileSize: 1.933 MiB