Package: decontX Version: 1.5.1 Command: /home/biocbuild/bbs-3.21-bioc/R/bin/R CMD INSTALL decontX StartedAt: 2025-02-20 16:10:10 -0500 (Thu, 20 Feb 2025) EndedAt: 2025-02-20 16:12:54 -0500 (Thu, 20 Feb 2025) EllapsedTime: 164.5 seconds RetCode: 0 Status: OK