Package: decontX Version: 1.5.1 Command: /home/biocbuild/bbs-3.21-bioc/R/bin/R CMD build --keep-empty-dirs --no-resave-data decontX StartedAt: 2025-02-20 17:09:38 -0500 (Thu, 20 Feb 2025) EndedAt: 2025-02-20 17:17:26 -0500 (Thu, 20 Feb 2025) EllapsedTime: 467.5 seconds RetCode: 0 Status: OK PackageFile: decontX_1.5.1.tar.gz PackageFileSize: 2.057 MiB