Package: decontX Version: 1.5.1 Command: /Library/Frameworks/R.framework/Resources/bin/R CMD build --keep-empty-dirs --no-resave-data decontX StartedAt: 2025-02-20 16:25:47 -0500 (Thu, 20 Feb 2025) EndedAt: 2025-02-20 16:34:02 -0500 (Thu, 20 Feb 2025) EllapsedTime: 495.1 seconds RetCode: 0 Status: OK PackageFile: decontX_1.5.1.tar.gz PackageFileSize: 1.991 MiB