Package: decontX Version: 1.5.1 Command: rm -rf decontX.buildbin-libdir && mkdir decontX.buildbin-libdir && /Users/biocbuild/BBS/utils/build-universal.sh decontX_1.5.1.tar.gz /Library/Frameworks/R.framework/Resources/bin/R decontX.buildbin-libdir StartedAt: 2025-02-21 00:27:09 -0500 (Fri, 21 Feb 2025) EndedAt: 2025-02-21 00:30:20 -0500 (Fri, 21 Feb 2025) EllapsedTime: 191.0 seconds RetCode: 0 Status: OK PackageFile: decontX_1.5.1.tgz PackageFileSize: 2.837 MiB